Package: tidyCoverage Version: 1.5.0 Command: /home/biocbuild/bbs-3.22-bioc/R/bin/R CMD INSTALL tidyCoverage StartedAt: 2025-07-11 15:24:23 -0400 (Fri, 11 Jul 2025) EndedAt: 2025-07-11 15:24:58 -0400 (Fri, 11 Jul 2025) EllapsedTime: 35.5 seconds RetCode: 0 Status: OK