Package: tidyCoverage Version: 1.5.0 Command: rm -rf tidyCoverage.buildbin-libdir && mkdir tidyCoverage.buildbin-libdir && F:\biocbuild\bbs-3.22-bioc\R\bin\R.exe CMD INSTALL --build --library=tidyCoverage.buildbin-libdir tidyCoverage_1.5.0.tar.gz StartedAt: 2025-07-12 10:02:32 -0400 (Sat, 12 Jul 2025) EndedAt: 2025-07-12 10:03:26 -0400 (Sat, 12 Jul 2025) EllapsedTime: 53.9 seconds RetCode: 0 Status: OK PackageFile: tidyCoverage_1.5.0.zip PackageFileSize: 4.07 MiB