Package: tidyCoverage Version: 1.5.0 Command: chmod a+r tidyCoverage -R && F:\biocbuild\bbs-3.22-bioc\R\bin\R.exe CMD build --keep-empty-dirs --no-resave-data tidyCoverage StartedAt: 2025-07-11 22:31:42 -0400 (Fri, 11 Jul 2025) EndedAt: 2025-07-11 22:39:16 -0400 (Fri, 11 Jul 2025) EllapsedTime: 453.4 seconds RetCode: 0 Status: OK PackageFile: tidyCoverage_1.5.0.tar.gz PackageFileSize: 3.758 MiB