Package: tidyCoverage Version: 1.5.0 Command: F:\biocbuild\bbs-3.22-bioc\R\bin\R.exe CMD INSTALL tidyCoverage StartedAt: 2025-07-11 16:14:38 -0400 (Fri, 11 Jul 2025) EndedAt: 2025-07-11 16:15:27 -0400 (Fri, 11 Jul 2025) EllapsedTime: 49.5 seconds RetCode: 0 Status: OK