Package: tidyCoverage Version: 1.5.0 Command: /home/biocbuild/R/R/bin/R CMD build --keep-empty-dirs --no-resave-data tidyCoverage StartedAt: 2025-07-11 04:32:45 -0000 (Fri, 11 Jul 2025) EndedAt: 2025-07-11 04:36:53 -0000 (Fri, 11 Jul 2025) EllapsedTime: 247.2 seconds RetCode: 0 Status: OK PackageFile: tidyCoverage_1.5.0.tar.gz PackageFileSize: 3.794 MiB