Package: tidyCoverage Version: 1.5.0 Command: /home/biocbuild/R/R/bin/R CMD INSTALL tidyCoverage StartedAt: 2025-07-10 21:33:51 -0000 (Thu, 10 Jul 2025) EndedAt: 2025-07-10 21:34:37 -0000 (Thu, 10 Jul 2025) EllapsedTime: 45.2 seconds RetCode: 0 Status: OK