Package: tidyFlowCore Version: 1.3.0 Command: rm -rf tidyFlowCore.buildbin-libdir && mkdir tidyFlowCore.buildbin-libdir && /Users/biocbuild/BBS/utils/build-universal.sh tidyFlowCore_1.3.0.tar.gz /Library/Frameworks/R.framework/Resources/bin/R tidyFlowCore.buildbin-libdir StartedAt: 2025-07-11 22:38:33 -0400 (Fri, 11 Jul 2025) EndedAt: 2025-07-11 22:38:37 -0400 (Fri, 11 Jul 2025) EllapsedTime: 4.1 seconds RetCode: 0 Status: OK PackageFile: tidyFlowCore_1.3.0.tgz PackageFileSize: 923.9 KiB