Package: tidyFlowCore Version: 1.3.0 Command: /Library/Frameworks/R.framework/Resources/bin/R CMD build --keep-empty-dirs --no-resave-data tidyFlowCore StartedAt: 2025-07-11 17:46:13 -0400 (Fri, 11 Jul 2025) EndedAt: 2025-07-11 17:46:38 -0400 (Fri, 11 Jul 2025) EllapsedTime: 24.3 seconds RetCode: 0 Status: OK PackageFile: tidyFlowCore_1.3.0.tar.gz PackageFileSize: 780.3 KiB