Package: tidyFlowCore Version: 1.3.0 Command: /Library/Frameworks/R.framework/Resources/bin/R CMD INSTALL tidyFlowCore StartedAt: 2025-07-11 15:07:09 -0400 (Fri, 11 Jul 2025) EndedAt: 2025-07-11 15:07:12 -0400 (Fri, 11 Jul 2025) EllapsedTime: 3.5 seconds RetCode: 0 Status: OK