Package: tidyFlowCore Version: 1.3.0 Command: /Library/Frameworks/R.framework/Resources/bin/R CMD build --keep-empty-dirs --no-resave-data tidyFlowCore StartedAt: 2025-07-14 18:48:23 -0400 (Mon, 14 Jul 2025) EndedAt: 2025-07-14 18:49:30 -0400 (Mon, 14 Jul 2025) EllapsedTime: 66.2 seconds RetCode: 0 Status: OK PackageFile: tidyFlowCore_1.3.0.tar.gz PackageFileSize: 776.1 KiB