Package: tidyFlowCore Version: 1.3.0 Command: /Library/Frameworks/R.framework/Resources/bin/R CMD INSTALL tidyFlowCore StartedAt: 2025-07-14 15:24:23 -0400 (Mon, 14 Jul 2025) EndedAt: 2025-07-14 15:24:38 -0400 (Mon, 14 Jul 2025) EllapsedTime: 14.7 seconds RetCode: 0 Status: OK