Package: tidySpatialExperiment Version: 1.7.1 Command: /home/biocbuild/bbs-3.23-bioc/R/bin/R CMD build --keep-empty-dirs --no-resave-data tidySpatialExperiment StartedAt: 2025-11-06 20:24:10 -0500 (Thu, 06 Nov 2025) EndedAt: 2025-11-06 20:25:02 -0500 (Thu, 06 Nov 2025) EllapsedTime: 52.1 seconds RetCode: 0 Status: OK PackageFile: tidySpatialExperiment_1.7.1.tar.gz PackageFileSize: 4.336 MiB