Package: tidySpatialExperiment Version: 1.7.1 Command: /home/biocbuild/bbs-3.23-bioc/R/bin/R CMD INSTALL tidySpatialExperiment StartedAt: 2025-11-06 15:21:53 -0500 (Thu, 06 Nov 2025) EndedAt: 2025-11-06 15:22:23 -0500 (Thu, 06 Nov 2025) EllapsedTime: 29.1 seconds RetCode: 0 Status: OK