Package: tidySpatialExperiment Version: 1.5.0 Command: /home/biocbuild/bbs-3.22-bioc/R/bin/R CMD INSTALL tidySpatialExperiment StartedAt: 2025-07-13 15:21:49 -0400 (Sun, 13 Jul 2025) EndedAt: 2025-07-13 15:22:17 -0400 (Sun, 13 Jul 2025) EllapsedTime: 28.2 seconds RetCode: 0 Status: OK