Package: tidySummarizedExperiment Version: 1.21.0 Command: /home/biocbuild/bbs-3.23-bioc/R/bin/R CMD INSTALL tidySummarizedExperiment StartedAt: 2025-11-26 15:33:21 -0500 (Wed, 26 Nov 2025) EndedAt: 2025-11-26 15:33:48 -0500 (Wed, 26 Nov 2025) EllapsedTime: 27.2 seconds RetCode: 0 Status: OK