Package: tidybulk Version: 2.1.0 Command: rm -rf tidybulk.buildbin-libdir && mkdir tidybulk.buildbin-libdir && /Users/biocbuild/BBS/utils/build-universal.sh tidybulk_2.1.0.tar.gz /Library/Frameworks/R.framework/Resources/bin/R tidybulk.buildbin-libdir StartedAt: 2025-11-25 00:03:07 -0500 (Tue, 25 Nov 2025) EndedAt: 2025-11-25 00:03:23 -0500 (Tue, 25 Nov 2025) EllapsedTime: 16.3 seconds RetCode: 0 Status: OK PackageFile: tidybulk_2.1.0.tgz PackageFileSize: 5.373 MiB