Package: tidybulk Version: 2.1.0 Command: /Library/Frameworks/R.framework/Resources/bin/R CMD build --keep-empty-dirs --no-resave-data tidybulk StartedAt: 2025-11-24 18:05:16 -0500 (Mon, 24 Nov 2025) EndedAt: 2025-11-24 18:12:05 -0500 (Mon, 24 Nov 2025) EllapsedTime: 409.6 seconds RetCode: 0 Status: OK PackageFile: tidybulk_2.1.0.tar.gz PackageFileSize: 4.992 MiB