Package: tidybulk Version: 2.1.0 Command: /Library/Frameworks/R.framework/Resources/bin/R CMD INSTALL tidybulk StartedAt: 2025-11-24 15:15:24 -0500 (Mon, 24 Nov 2025) EndedAt: 2025-11-24 15:15:37 -0500 (Mon, 24 Nov 2025) EllapsedTime: 13.0 seconds RetCode: 0 Status: OK