Package: tilingArray Version: 1.89.0 Command: /home/biocbuild/bbs-3.23-bioc/R/bin/R CMD INSTALL tilingArray StartedAt: 2025-10-31 16:08:01 -0400 (Fri, 31 Oct 2025) EndedAt: 2025-10-31 16:08:24 -0400 (Fri, 31 Oct 2025) EllapsedTime: 23.4 seconds RetCode: 0 Status: OK