Package: tilingArray Version: 1.87.0 Command: /home/biocbuild/bbs-3.22-bioc/R/bin/R CMD build --keep-empty-dirs --no-resave-data --md5 tilingArray StartedAt: 2025-07-11 19:29:10 -0400 (Fri, 11 Jul 2025) EndedAt: 2025-07-11 19:29:47 -0400 (Fri, 11 Jul 2025) EllapsedTime: 37.1 seconds RetCode: 0 Status: OK PackageFile: tilingArray_1.87.0.tar.gz PackageFileSize: 3.488 MiB