Package: tilingArray Version: 1.87.0 Command: /home/biocbuild/bbs-3.22-bioc/R/bin/R CMD INSTALL tilingArray StartedAt: 2025-07-11 15:53:31 -0400 (Fri, 11 Jul 2025) EndedAt: 2025-07-11 15:53:54 -0400 (Fri, 11 Jul 2025) EllapsedTime: 22.8 seconds RetCode: 0 Status: OK