Package: transcriptR Version: 1.37.0 Command: /home/biocbuild/bbs-3.22-bioc/R/bin/R CMD build --keep-empty-dirs --no-resave-data --md5 transcriptR StartedAt: 2025-10-14 20:34:32 -0400 (Tue, 14 Oct 2025) EndedAt: 2025-10-14 20:35:55 -0400 (Tue, 14 Oct 2025) EllapsedTime: 83.1 seconds RetCode: 0 Status: OK PackageFile: transcriptR_1.37.0.tar.gz PackageFileSize: 3.562 MiB