Package: transcriptR Version: 1.37.0 Command: /home/biocbuild/bbs-3.22-bioc/R/bin/R CMD INSTALL transcriptR StartedAt: 2025-10-13 15:59:01 -0400 (Mon, 13 Oct 2025) EndedAt: 2025-10-13 15:59:48 -0400 (Mon, 13 Oct 2025) EllapsedTime: 46.9 seconds RetCode: 0 Status: OK