Package: treeio Version: 1.35.0 Command: rm -rf treeio.buildbin-libdir && mkdir treeio.buildbin-libdir && /Users/biocbuild/BBS/utils/build-universal.sh treeio_1.35.0.tar.gz /Library/Frameworks/R.framework/Resources/bin/R treeio.buildbin-libdir StartedAt: 2025-11-18 00:56:44 -0500 (Tue, 18 Nov 2025) EndedAt: 2025-11-18 00:56:49 -0500 (Tue, 18 Nov 2025) EllapsedTime: 5.1 seconds RetCode: 0 Status: OK PackageFile: treeio_1.35.0.tgz PackageFileSize: 913.1 KiB