Package: treeio Version: 1.35.0 Command: /Library/Frameworks/R.framework/Resources/bin/R CMD build --keep-empty-dirs --no-resave-data treeio StartedAt: 2025-11-17 18:54:28 -0500 (Mon, 17 Nov 2025) EndedAt: 2025-11-17 18:54:33 -0500 (Mon, 17 Nov 2025) EllapsedTime: 5.1 seconds RetCode: 0 Status: OK PackageFile: treeio_1.35.0.tar.gz PackageFileSize: 678.8 KiB