Package: treeio Version: 1.35.0 Command: /Library/Frameworks/R.framework/Resources/bin/R CMD INSTALL treeio StartedAt: 2025-11-16 15:05:50 -0500 (Sun, 16 Nov 2025) EndedAt: 2025-11-16 15:05:53 -0500 (Sun, 16 Nov 2025) EllapsedTime: 3.3 seconds RetCode: 0 Status: OK