Package: treeio Version: 1.35.0 Command: rm -rf treeio.buildbin-libdir && mkdir treeio.buildbin-libdir && /Users/biocbuild/BBS/utils/build-universal.sh treeio_1.35.0.tar.gz /Library/Frameworks/R.framework/Resources/bin/R treeio.buildbin-libdir StartedAt: 2025-11-22 02:02:52 -0500 (Sat, 22 Nov 2025) EndedAt: 2025-11-22 02:03:06 -0500 (Sat, 22 Nov 2025) EllapsedTime: 13.9 seconds RetCode: 0 Status: OK PackageFile: treeio_1.35.0.tgz PackageFileSize: 911.5 KiB