Package: treeio Version: 1.35.0 Command: /Library/Frameworks/R.framework/Resources/bin/R CMD build --keep-empty-dirs --no-resave-data treeio StartedAt: 2025-11-21 19:03:21 -0500 (Fri, 21 Nov 2025) EndedAt: 2025-11-21 19:03:34 -0500 (Fri, 21 Nov 2025) EllapsedTime: 12.6 seconds RetCode: 0 Status: OK PackageFile: treeio_1.35.0.tar.gz PackageFileSize: 678.9 KiB