Package: treeio Version: 1.35.0 Command: /Library/Frameworks/R.framework/Resources/bin/R CMD INSTALL treeio StartedAt: 2025-11-21 15:15:57 -0500 (Fri, 21 Nov 2025) EndedAt: 2025-11-21 15:16:20 -0500 (Fri, 21 Nov 2025) EllapsedTime: 23.0 seconds RetCode: 0 Status: OK