Package: treeio Version: 1.35.0 Command: /home/biocbuild/bbs-3.23-bioc/R/bin/R CMD INSTALL treeio StartedAt: 2025-11-24 15:08:36 -0500 (Mon, 24 Nov 2025) EndedAt: 2025-11-24 15:08:45 -0500 (Mon, 24 Nov 2025) EllapsedTime: 9.7 seconds RetCode: 0 Status: OK