Package: updateObject Version: 1.15.0 Command: rm -rf updateObject.buildbin-libdir && mkdir updateObject.buildbin-libdir && /Users/biocbuild/BBS/utils/build-universal.sh updateObject_1.15.0.tar.gz /Library/Frameworks/R.framework/Resources/bin/R updateObject.buildbin-libdir StartedAt: 2025-11-16 23:57:10 -0500 (Sun, 16 Nov 2025) EndedAt: 2025-11-16 23:57:13 -0500 (Sun, 16 Nov 2025) EllapsedTime: 3.1 seconds RetCode: 0 Status: OK PackageFile: updateObject_1.15.0.tgz PackageFileSize: 1.344 MiB