Package: updateObject Version: 1.15.0 Command: /Library/Frameworks/R.framework/Resources/bin/R CMD build --keep-empty-dirs --no-resave-data updateObject StartedAt: 2025-11-17 18:57:43 -0500 (Mon, 17 Nov 2025) EndedAt: 2025-11-17 18:57:53 -0500 (Mon, 17 Nov 2025) EllapsedTime: 10.1 seconds RetCode: 0 Status: OK PackageFile: updateObject_1.15.0.tar.gz PackageFileSize: 1.289 MiB