Package: updateObject Version: 1.15.0 Command: /Library/Frameworks/R.framework/Resources/bin/R CMD INSTALL updateObject StartedAt: 2025-11-16 15:07:47 -0500 (Sun, 16 Nov 2025) EndedAt: 2025-11-16 15:07:50 -0500 (Sun, 16 Nov 2025) EllapsedTime: 2.3 seconds RetCode: 0 Status: OK