Package: updateObject Version: 1.15.0 Command: /Library/Frameworks/R.framework/Resources/bin/R CMD build --keep-empty-dirs --no-resave-data updateObject StartedAt: 2025-11-25 19:17:03 -0500 (Tue, 25 Nov 2025) EndedAt: 2025-11-25 19:17:29 -0500 (Tue, 25 Nov 2025) EllapsedTime: 25.2 seconds RetCode: 0 Status: OK PackageFile: updateObject_1.15.0.tar.gz PackageFileSize: 1.289 MiB