Package: updateObject Version: 1.15.0 Command: /Library/Frameworks/R.framework/Resources/bin/R CMD INSTALL updateObject StartedAt: 2025-11-24 15:19:48 -0500 (Mon, 24 Nov 2025) EndedAt: 2025-11-24 15:19:58 -0500 (Mon, 24 Nov 2025) EllapsedTime: 10.5 seconds RetCode: 0 Status: OK