Package: variancePartition Version: 1.41.0 Command: /home/biocbuild/bbs-3.23-bioc/R/bin/R CMD build --keep-empty-dirs --no-resave-data variancePartition StartedAt: 2025-11-14 20:40:07 -0500 (Fri, 14 Nov 2025) EndedAt: 2025-11-14 20:51:14 -0500 (Fri, 14 Nov 2025) EllapsedTime: 667.4 seconds RetCode: 0 Status: OK PackageFile: variancePartition_1.41.0.tar.gz PackageFileSize: 4.721 MiB