Package: variancePartition Version: 1.39.0 Command: /home/biocbuild/bbs-3.22-bioc/R/bin/R CMD build --keep-empty-dirs --no-resave-data --md5 variancePartition StartedAt: 2025-07-14 19:40:24 -0400 (Mon, 14 Jul 2025) EndedAt: 2025-07-14 19:51:17 -0400 (Mon, 14 Jul 2025) EllapsedTime: 652.2 seconds RetCode: 0 Status: OK PackageFile: variancePartition_1.39.0.tar.gz PackageFileSize: 4.723 MiB