Package: variancePartition Version: 1.39.0 Command: /home/biocbuild/bbs-3.22-bioc/R/bin/R CMD INSTALL variancePartition StartedAt: 2025-07-14 15:11:20 -0400 (Mon, 14 Jul 2025) EndedAt: 2025-07-14 15:11:39 -0400 (Mon, 14 Jul 2025) EllapsedTime: 19.6 seconds RetCode: 0 Status: OK