Package: webbioc Version: 1.81.0 Command: /Library/Frameworks/R.framework/Resources/bin/R CMD INSTALL webbioc StartedAt: 2025-10-23 15:25:39 -0400 (Thu, 23 Oct 2025) EndedAt: 2025-10-23 15:25:48 -0400 (Thu, 23 Oct 2025) EllapsedTime: 8.9 seconds RetCode: 0 Status: OK