Package: webbioc Version: 1.83.0 Command: /Library/Frameworks/R.framework/Resources/bin/R CMD build --keep-empty-dirs --no-resave-data webbioc StartedAt: 2025-11-19 19:10:28 -0500 (Wed, 19 Nov 2025) EndedAt: 2025-11-19 19:11:01 -0500 (Wed, 19 Nov 2025) EllapsedTime: 33.1 seconds RetCode: 0 Status: OK PackageFile: webbioc_1.83.0.tar.gz PackageFileSize: 310.8 KiB