Package: webbioc Version: 1.83.0 Command: /home/biocbuild/bbs-3.23-bioc/R/bin/R CMD INSTALL webbioc StartedAt: 2025-11-20 15:44:54 -0500 (Thu, 20 Nov 2025) EndedAt: 2025-11-20 15:45:18 -0500 (Thu, 20 Nov 2025) EllapsedTime: 23.0 seconds RetCode: 0 Status: OK