Package: widgetTools Version: 1.89.0 Command: rm -rf widgetTools.buildbin-libdir && mkdir widgetTools.buildbin-libdir && /Users/biocbuild/BBS/utils/build-universal.sh widgetTools_1.89.0.tar.gz /Library/Frameworks/R.framework/Resources/bin/R widgetTools.buildbin-libdir StartedAt: 2025-11-25 23:57:50 -0500 (Tue, 25 Nov 2025) EndedAt: 2025-11-25 23:57:55 -0500 (Tue, 25 Nov 2025) EllapsedTime: 5.1 seconds RetCode: 0 Status: OK PackageFile: widgetTools_1.89.0.tgz PackageFileSize: 451.2 KiB