Package: widgetTools Version: 1.89.0 Command: /Library/Frameworks/R.framework/Resources/bin/R CMD build --keep-empty-dirs --no-resave-data widgetTools StartedAt: 2025-11-25 18:07:53 -0500 (Tue, 25 Nov 2025) EndedAt: 2025-11-25 18:08:01 -0500 (Tue, 25 Nov 2025) EllapsedTime: 8.1 seconds RetCode: 0 Status: OK PackageFile: widgetTools_1.89.0.tar.gz PackageFileSize: 227.7 KiB