Package: wiggleplotr Version: 1.33.2 Command: rm -rf wiggleplotr.buildbin-libdir && mkdir wiggleplotr.buildbin-libdir && /Users/biocbuild/BBS/utils/build-universal.sh wiggleplotr_1.33.2.tar.gz /Library/Frameworks/R.framework/Resources/bin/R wiggleplotr.buildbin-libdir StartedAt: 2025-10-14 23:42:48 -0400 (Tue, 14 Oct 2025) EndedAt: 2025-10-14 23:42:51 -0400 (Tue, 14 Oct 2025) EllapsedTime: 3.1 seconds RetCode: 0 Status: OK PackageFile: wiggleplotr_1.33.2.tgz PackageFileSize: 466.3 KiB