Package: wiggleplotr Version: 1.35.0 Command: /home/biocbuild/bbs-3.23-bioc/R/bin/R CMD build --keep-empty-dirs --no-resave-data wiggleplotr StartedAt: 2025-11-14 20:45:42 -0500 (Fri, 14 Nov 2025) EndedAt: 2025-11-14 20:46:16 -0500 (Fri, 14 Nov 2025) EllapsedTime: 34.0 seconds RetCode: 0 Status: OK PackageFile: wiggleplotr_1.35.0.tar.gz PackageFileSize: 335.7 KiB