Package: wiggleplotr Version: 1.35.0 Command: /home/biocbuild/bbs-3.23-bioc/R/bin/R CMD INSTALL wiggleplotr StartedAt: 2025-11-14 15:27:39 -0500 (Fri, 14 Nov 2025) EndedAt: 2025-11-14 15:27:44 -0500 (Fri, 14 Nov 2025) EllapsedTime: 5.5 seconds RetCode: 0 Status: OK