Back to Build/check report for BioC 3.23:   simplified   long
ABCDEFGHIJKLMNOPQRSTUVW[X]YZ

This page was generated on 2025-11-01 11:32 -0400 (Sat, 01 Nov 2025).

HostnameOSArch (*)R versionInstalled pkgs
nebbiolo1Linux (Ubuntu 24.04.3 LTS)x86_64R Under development (unstable) (2025-10-20 r88955) -- "Unsuffered Consequences" 4774
Click on any hostname to see more info about the system (e.g. compilers)      (*) as reported by 'uname -p', except on Windows and Mac OS X

All results for package xcms


To the developers/maintainers of the xcms package:
- Allow up to 24 hours (and sometimes 48 hours) for your latest push to git@git.bioconductor.org:packages/xcms.git to reflect on this report. See Troubleshooting Build Report for more information.
- Use the following Renviron settings to reproduce errors and warnings.
- If 'R CMD check' started to fail recently on the Linux builder(s) over a missing dependency, add the missing dependency to 'Suggests:' in your DESCRIPTION file. See Renviron.bioc for more information.

raw results

Package 2304/2321HostnameOS / ArchINSTALLBUILDCHECKBUILD BIN
xcms 4.9.0  (landing page)
Steffen Neumann
Snapshot Date: 2025-10-31 13:40 -0400 (Fri, 31 Oct 2025)
git_url: https://git.bioconductor.org/packages/xcms
git_branch: devel
git_last_commit: 3321e90
git_last_commit_date: 2025-10-29 09:56:19 -0400 (Wed, 29 Oct 2025)
nebbiolo1Linux (Ubuntu 24.04.3 LTS) / x86_64  OK    OK    OK  YES



Results for Bioconductor software packages that depend directly on package xcms

QUICK STATSOS / ArchINSTALLBUILDCHECKBUILD BIN
nebbiolo1Linux (Ubuntu 24.04.3 LTS) / x86_64
0010
0010
0028
Package 1/10HostnameOS / ArchINSTALLBUILDCHECKBUILD BIN
CAMERA 1.67.0  (landing page)
Steffen Neumann
git_last_commit: 340928f
git_last_commit_date: 2025-10-29 10:02:23 -0400
nebbiolo1Linux (Ubuntu 24.04.3 LTS) / x86_64  OK    OK    WARNINGS  YES
Package 2/10HostnameOS / ArchINSTALLBUILDCHECKBUILD BIN
cliqueMS 1.25.0  (landing page)
Oriol Senan Campos
git_last_commit: aae47b3
git_last_commit_date: 2025-10-29 11:31:29 -0400
nebbiolo1Linux (Ubuntu 24.04.3 LTS) / x86_64  OK    OK    OK  YES
Package 3/10HostnameOS / ArchINSTALLBUILDCHECKBUILD BIN
cosmiq 1.45.0  (landing page)
David Fischer
git_last_commit: 5f8e85a
git_last_commit_date: 2025-10-29 10:19:47 -0400
nebbiolo1Linux (Ubuntu 24.04.3 LTS) / x86_64  OK    OK    OK  YES
Package 4/10HostnameOS / ArchINSTALLBUILDCHECKBUILD BIN
flagme 1.67.0  (landing page)
Mark Robinson , Riccardo Romoli
git_last_commit: bfb88ad
git_last_commit_date: 2025-10-29 10:02:02 -0400
nebbiolo1Linux (Ubuntu 24.04.3 LTS) / x86_64  OK    OK    WARNINGS  YES
Package 5/10HostnameOS / ArchINSTALLBUILDCHECKBUILD BIN
IPO 1.37.0  (landing page)
Thomas Lieb
git_last_commit: c3be411
git_last_commit_date: 2025-10-29 10:33:40 -0400
nebbiolo1Linux (Ubuntu 24.04.3 LTS) / x86_64  OK    OK    OK  YES
Package 6/10HostnameOS / ArchINSTALLBUILDCHECKBUILD BIN
LOBSTAHS 1.37.0  (landing page)
Henry Holm
git_last_commit: 0414929
git_last_commit_date: 2025-10-29 10:33:12 -0400
nebbiolo1Linux (Ubuntu 24.04.3 LTS) / x86_64  OK    OK    OK  YES
Package 7/10HostnameOS / ArchINSTALLBUILDCHECKBUILD BIN
MAIT 1.45.0  (landing page)
Pol Sola-Santos
git_last_commit: 29ed7f5
git_last_commit_date: 2025-10-29 10:22:14 -0400
nebbiolo1Linux (Ubuntu 24.04.3 LTS) / x86_64  OK    OK    OK  YES
Package 8/10HostnameOS / ArchINSTALLBUILDCHECKBUILD BIN
metaMS 1.47.0  (landing page)
Yann Guitton
git_last_commit: baee3fd
git_last_commit_date: 2025-10-29 10:19:03 -0400
nebbiolo1Linux (Ubuntu 24.04.3 LTS) / x86_64  OK    OK    OK  YES
Package 9/10HostnameOS / ArchINSTALLBUILDCHECKBUILD BIN
ncGTW 1.25.0  (landing page)
Chiung-Ting Wu
git_last_commit: b8d200e
git_last_commit_date: 2025-10-29 10:53:19 -0400
nebbiolo1Linux (Ubuntu 24.04.3 LTS) / x86_64  OK    OK    OK  YES
Package 10/10HostnameOS / ArchINSTALLBUILDCHECKBUILD BIN
squallms 1.5.0  (landing page)
William Kumler
git_last_commit: 26f2e18
git_last_commit_date: 2025-10-29 11:30:51 -0400
nebbiolo1Linux (Ubuntu 24.04.3 LTS) / x86_64  OK    OK    OK  YES