Package: xcms Version: 4.9.0 Command: /Library/Frameworks/R.framework/Resources/bin/R CMD build --keep-empty-dirs --no-resave-data xcms StartedAt: 2025-11-18 18:16:50 -0500 (Tue, 18 Nov 2025) EndedAt: 2025-11-18 18:18:57 -0500 (Tue, 18 Nov 2025) EllapsedTime: 126.8 seconds RetCode: 0 Status: OK PackageFile: xcms_4.9.0.tar.gz PackageFileSize: 8.911 MiB