Package: xcms Version: 4.9.0 Command: /Library/Frameworks/R.framework/Resources/bin/R CMD INSTALL xcms StartedAt: 2025-11-17 15:23:41 -0500 (Mon, 17 Nov 2025) EndedAt: 2025-11-17 15:24:18 -0500 (Mon, 17 Nov 2025) EllapsedTime: 37.0 seconds RetCode: 0 Status: OK