Package: xcms Version: 4.9.0 Command: rm -rf xcms.buildbin-libdir && mkdir xcms.buildbin-libdir && /Users/biocbuild/BBS/utils/build-universal.sh xcms_4.9.0.tar.gz /Library/Frameworks/R.framework/Resources/bin/R xcms.buildbin-libdir StartedAt: 2025-11-22 02:04:15 -0500 (Sat, 22 Nov 2025) EndedAt: 2025-11-22 02:05:48 -0500 (Sat, 22 Nov 2025) EllapsedTime: 93.0 seconds RetCode: 0 Status: OK PackageFile: xcms_4.9.0.tgz PackageFileSize: 11.82 MiB